BEGIN:VCALENDAR
VERSION:2.0
CALSCALE:GREGORIAN
PRODID:-//Diputació de Barcelona//DibaCMS//EN
BEGIN:VEVENT
UID:30347
DTSTAMP:20260422T005543
DTSTART:20240911T180000
DTEND:20240911T180000
SUMMARY:Acte. Ball de gitanes
LOCATION:Plaça del Poble 08110 Montcada i Reixac
METHOD:PUBLISH
X-WR-CALNAME:oac@montcada.org
X-WR-TIMEZONE:Europe/Madrid
DESCRIPTION:Festa major Terra Nostra

URI:https://www.montcada.cat/ajuntament/govern/agenda-politica/hemeroteca-agenda-politica/30347-acte-ball-de-gitanes.html
CLASS:PUBLIC
END:VEVENT
END:VCALENDAR
