BEGIN:VCALENDAR
VERSION:2.0
CALSCALE:GREGORIAN
PRODID:-//Diputació de Barcelona//DibaCMS//EN
BEGIN:VEVENT
UID:30344
DTSTAMP:20260422T021212
DTSTART:20240910T210000
DTEND:20240910T210000
SUMMARY:Acte. Concurs de pastissos + Sopar de germanor amb bingo
LOCATION:
METHOD:PUBLISH
X-WR-CALNAME:oac@montcada.org
X-WR-TIMEZONE:Europe/Madrid
DESCRIPTION:Festa Major Terra Nostra

URI:https://www.montcada.cat/ajuntament/govern/agenda-politica/hemeroteca-agenda-politica/acte-concurs-de-pastissos--sopar-de-germanor-amb-bingo.html
CLASS:PUBLIC
END:VEVENT
END:VCALENDAR
