BEGIN:VCALENDAR
VERSION:2.0
CALSCALE:GREGORIAN
PRODID:-//Diputació de Barcelona//DibaCMS//EN
BEGIN:VEVENT
UID:30343
DTSTAMP:20260421T233343
DTSTART:20240910T093000
DTEND:20240910T093000
SUMMARY:Reunió. Comissió d'estudi de la modificació de les característiques essencials en relació al canvi d’ubicació del mercat de venda no sedentària
LOCATION:
METHOD:PUBLISH
X-WR-CALNAME:oac@montcada.org
X-WR-TIMEZONE:Europe/Madrid
DESCRIPTION:
URI:https://www.montcada.cat/ajuntament/govern/agenda-politica/hemeroteca-agenda-politica/reunio-comissio-destudi-de-la-modificacio-de-les-caracteristiques-essencials-en-relacio-al-canvi-dubicacio-del-mercat-de-venda-no-sedentaria.html
CLASS:PUBLIC
END:VEVENT
END:VCALENDAR
