BEGIN:VCALENDAR
VERSION:2.0
CALSCALE:GREGORIAN
PRODID:-//Diputació de Barcelona//DibaCMS//EN
BEGIN:VEVENT
UID:30342
DTSTAMP:20260422T004639
DTSTART:20240909T130000
DTEND:20240909T130000
SUMMARY:Reunió. Comissió seguiment Pacte Ciutat de Montcada i Reixac
LOCATION: Camí de la Font Freda, 9       08110 Montcada i Reixac
METHOD:PUBLISH
X-WR-CALNAME:oac@montcada.org
X-WR-TIMEZONE:Europe/Madrid
DESCRIPTION:
URI:https://www.montcada.cat/ajuntament/govern/agenda-politica/hemeroteca-agenda-politica/reunio-comissio-seguiment-pacte-ciutat-de-montcada-i-reixac.html
CLASS:PUBLIC
END:VEVENT
END:VCALENDAR
