BEGIN:VCALENDAR
VERSION:2.0
CALSCALE:GREGORIAN
PRODID:-//Diputació de Barcelona//DibaCMS//EN
BEGIN:VEVENT
UID:30341
DTSTAMP:20260421T165029
DTSTART:20240908T180000
DTEND:20240908T180000
SUMMARY:Acte. Ballada de sardanes
LOCATION:08110 Montcada i Reixac
METHOD:PUBLISH
X-WR-CALNAME:oac@montcada.org
X-WR-TIMEZONE:Europe/Madrid
DESCRIPTION:Festes del Turó

URI:https://www.montcada.cat/ajuntament/govern/agenda-politica/hemeroteca-agenda-politica/30341-acte-ballada-de-sardanes.html
CLASS:PUBLIC
END:VEVENT
END:VCALENDAR
