BEGIN:VCALENDAR
VERSION:2.0
CALSCALE:GREGORIAN
PRODID:-//Diputació de Barcelona//DibaCMS//EN
BEGIN:VEVENT
UID:30339
DTSTAMP:20260421T215703
DTSTART:20240907T200000
DTEND:20240907T200000
SUMMARY:Acte. Batucada
LOCATION:Plaça del Poble 08110 Montcada i Reixac
METHOD:PUBLISH
X-WR-CALNAME:oac@montcada.org
X-WR-TIMEZONE:Europe/Madrid
DESCRIPTION:Festa Major Terra Nostra

URI:https://www.montcada.cat/ajuntament/govern/agenda-politica/hemeroteca-agenda-politica/acte-batucada.html
CLASS:PUBLIC
END:VEVENT
END:VCALENDAR
