BEGIN:VCALENDAR
VERSION:2.0
CALSCALE:GREGORIAN
PRODID:-//Diputació de Barcelona//DibaCMS//EN
BEGIN:VEVENT
UID:30338
DTSTAMP:20260422T021113
DTSTART:20240907T193000
DTEND:20240907T193000
SUMMARY:Acte. Actuació gegantera
LOCATION:Plaça del Poble 08110 Montcada i Reixac
METHOD:PUBLISH
X-WR-CALNAME:oac@montcada.org
X-WR-TIMEZONE:Europe/Madrid
DESCRIPTION:Festa Major Terra Nostra

URI:https://www.montcada.cat/ajuntament/govern/agenda-politica/hemeroteca-agenda-politica/acte-actuacio-gegantera.html
CLASS:PUBLIC
END:VEVENT
END:VCALENDAR
