BEGIN:VCALENDAR
VERSION:2.0
CALSCALE:GREGORIAN
PRODID:-//Diputació de Barcelona//DibaCMS//EN
BEGIN:VEVENT
UID:30299
DTSTAMP:20260421T215538
DTSTART:20240903T110000
DTEND:20240903T110000
SUMMARY:Reunió. AV Protecció Civil
LOCATION:
METHOD:PUBLISH
X-WR-CALNAME:oac@montcada.org
X-WR-TIMEZONE:Europe/Madrid
DESCRIPTION:
URI:https://www.montcada.cat/ajuntament/govern/agenda-politica/hemeroteca-agenda-politica/reunio-av-proteccio-civil.html
CLASS:PUBLIC
END:VEVENT
END:VCALENDAR
