BEGIN:VCALENDAR
VERSION:2.0
CALSCALE:GREGORIAN
PRODID:-//Diputació de Barcelona//DibaCMS//EN
BEGIN:VEVENT
UID:30294
DTSTAMP:20260424T135952
DTSTART:20240928T113000
DTEND:20240928T113000
SUMMARY:Presentació clubs de lectura infantils. La Petra que llegia a l'escaleta
LOCATION: c. Turó, 45       08110 Montcada i Reixac
METHOD:PUBLISH
X-WR-CALNAME:oac@montcada.org
X-WR-TIMEZONE:Europe/Madrid
DESCRIPTION:A càrrec de Marta Coll del Raconet Artístic

URI:https://www.montcada.cat/actualitat/agenda/presentacio-clubs-de-lectura-infantils-la-petra-que-llegia-a-lescaleta.html
CLASS:PUBLIC
END:VEVENT
END:VCALENDAR
