BEGIN:VCALENDAR
VERSION:2.0
CALSCALE:GREGORIAN
PRODID:-//Diputació de Barcelona//DibaCMS//EN
BEGIN:VEVENT
UID:30290
DTSTAMP:20260424T175652
DTSTART:20240927T183000
DTEND:20240927T183000
SUMMARY:La Cripta de l'Elisenda. Las reglas del verano
LOCATION: c. Tarragona, 32       08110 Montcada i Reixac
METHOD:PUBLISH
X-WR-CALNAME:oac@montcada.org
X-WR-TIMEZONE:Europe/Madrid
DESCRIPTION:De Shaun Tan

URI:https://www.montcada.cat/actualitat/agenda/la-cripta-de-lelisenda-las-reglas-del-verano.html
CLASS:PUBLIC
END:VEVENT
END:VCALENDAR
