BEGIN:VCALENDAR
VERSION:2.0
CALSCALE:GREGORIAN
PRODID:-//Diputació de Barcelona//DibaCMS//EN
BEGIN:VEVENT
UID:30289
DTSTAMP:20260424T181328
DTSTART:20240926T180000
DTEND:20240926T180000
SUMMARY:Aula digital. Connecta't: cerca eficaç d'informació a internet
LOCATION: c. Tarragona, 32       08110 Montcada i Reixac
METHOD:PUBLISH
X-WR-CALNAME:oac@montcada.org
X-WR-TIMEZONE:Europe/Madrid
DESCRIPTION:A càrrec d'Olga Rodrigo

URI:https://www.montcada.cat/actualitat/agenda/aula-digital-connectat-cerca-eficac-dinformacio-a-internet.html
CLASS:PUBLIC
END:VEVENT
END:VCALENDAR
