BEGIN:VCALENDAR
VERSION:2.0
CALSCALE:GREGORIAN
PRODID:-//Diputació de Barcelona//DibaCMS//EN
BEGIN:VEVENT
UID:30288
DTSTAMP:20260424T181705
DTSTART:20240919T180000
DTEND:20240919T180000
SUMMARY:Club de lectura de novel·la. La memòria de l'arbre
LOCATION: c. Turó, 45       08110 Montcada i Reixac
METHOD:PUBLISH
X-WR-CALNAME:oac@montcada.org
X-WR-TIMEZONE:Europe/Madrid
DESCRIPTION:De Tina Vallès

URI:https://www.montcada.cat/actualitat/agenda/club-de-lectura-de-novella-la-memoria-de-larbre.html
CLASS:PUBLIC
END:VEVENT
END:VCALENDAR
