BEGIN:VCALENDAR
VERSION:2.0
CALSCALE:GREGORIAN
PRODID:-//Diputació de Barcelona//DibaCMS//EN
BEGIN:VEVENT
UID:30287
DTSTAMP:20260425T000518
DTSTART:20240917T180000
DTEND:20240917T180000
SUMMARY:Aula digital. Phyton
LOCATION: c. Tarragona, 32       08110 Montcada i Reixac
METHOD:PUBLISH
X-WR-CALNAME:oac@montcada.org
X-WR-TIMEZONE:Europe/Madrid
DESCRIPTION:A càrrec de Javier Aguirre

URI:https://www.montcada.cat/actualitat/agenda/aula-digital-phyton.html
CLASS:PUBLIC
END:VEVENT
END:VCALENDAR
