BEGIN:VCALENDAR
VERSION:2.0
CALSCALE:GREGORIAN
PRODID:-//Diputació de Barcelona//DibaCMS//EN
BEGIN:VEVENT
UID:30281
DTSTAMP:20260422T004454
DTSTART:20240831T170000
DTEND:20240831T170000
SUMMARY:Visita. Inauguració botiga Fragancias
LOCATION:
METHOD:PUBLISH
X-WR-CALNAME:oac@montcada.org
X-WR-TIMEZONE:Europe/Madrid
DESCRIPTION:
URI:https://www.montcada.cat/ajuntament/govern/agenda-politica/hemeroteca-agenda-politica/visita-inauguracio-botiga-fragancias.html
CLASS:PUBLIC
END:VEVENT
END:VCALENDAR
