BEGIN:VCALENDAR
VERSION:2.0
CALSCALE:GREGORIAN
PRODID:-//Diputació de Barcelona//DibaCMS//EN
BEGIN:VEVENT
UID:30280
DTSTAMP:20260421T204501
DTSTART:20240830T093000
DTEND:20240830T093000
SUMMARY:Reunió. AV Reixac Baixa
LOCATION:
METHOD:PUBLISH
X-WR-CALNAME:oac@montcada.org
X-WR-TIMEZONE:Europe/Madrid
DESCRIPTION:
URI:https://www.montcada.cat/ajuntament/govern/agenda-politica/hemeroteca-agenda-politica/reunio-av-reixac-baixa.html
CLASS:PUBLIC
END:VEVENT
END:VCALENDAR
