BEGIN:VCALENDAR
VERSION:2.0
CALSCALE:GREGORIAN
PRODID:-//Diputació de Barcelona//DibaCMS//EN
BEGIN:VEVENT
UID:30276
DTSTAMP:20260421T183217
DTSTART:20240823T110000
DTEND:20240823T110000
SUMMARY:Visita. Barris de la Font Pudenta, Mas Duran i la Ribera
LOCATION:
METHOD:PUBLISH
X-WR-CALNAME:oac@montcada.org
X-WR-TIMEZONE:Europe/Madrid
DESCRIPTION:
URI:https://www.montcada.cat/ajuntament/govern/agenda-politica/hemeroteca-agenda-politica/visita-barris-de-la-font-pudenta-mas-duran-i-la-ribera.html
CLASS:PUBLIC
END:VEVENT
END:VCALENDAR
