BEGIN:VCALENDAR
VERSION:2.0
CALSCALE:GREGORIAN
PRODID:-//Diputació de Barcelona//DibaCMS//EN
BEGIN:VEVENT
UID:30274
DTSTAMP:20260421T215908
DTSTART:20240814T100000
DTEND:20240814T100000
SUMMARY:Reunió. Gent gran PSC
LOCATION:
METHOD:PUBLISH
X-WR-CALNAME:oac@montcada.org
X-WR-TIMEZONE:Europe/Madrid
DESCRIPTION:
URI:https://www.montcada.cat/ajuntament/govern/agenda-politica/hemeroteca-agenda-politica/reunio-gent-gran-psc.html
CLASS:PUBLIC
END:VEVENT
END:VCALENDAR
