BEGIN:VCALENDAR
VERSION:2.0
CALSCALE:GREGORIAN
PRODID:-//Diputació de Barcelona//DibaCMS//EN
BEGIN:VEVENT
UID:30273
DTSTAMP:20260421T234347
DTSTART:20240814T120000
DTEND:20240814T120000
SUMMARY:Visita. Mercat setmanal
LOCATION:camí de la Font Freda 08110 Montcada i Reixac
METHOD:PUBLISH
X-WR-CALNAME:oac@montcada.org
X-WR-TIMEZONE:Europe/Madrid
DESCRIPTION:
URI:https://www.montcada.cat/ajuntament/govern/agenda-politica/hemeroteca-agenda-politica/visita-mercat-setmanal.html
CLASS:PUBLIC
END:VEVENT
END:VCALENDAR
