BEGIN:VCALENDAR
VERSION:2.0
CALSCALE:GREGORIAN
PRODID:-//Diputació de Barcelona//DibaCMS//EN
BEGIN:VEVENT
UID:30258
DTSTAMP:20260421T170936
DTSTART:20240907T190000
DTEND:20240907T190000
SUMMARY:Acte. Festa del Fanalet i correfoc
LOCATION:
METHOD:PUBLISH
X-WR-CALNAME:oac@montcada.org
X-WR-TIMEZONE:Europe/Madrid
DESCRIPTION:Festa Major Terra Nostra

URI:https://www.montcada.cat/ajuntament/govern/agenda-politica/hemeroteca-agenda-politica/acte-festa-del-fanalet-i-correfoc.html
CLASS:PUBLIC
END:VEVENT
END:VCALENDAR
