BEGIN:VCALENDAR
VERSION:2.0
CALSCALE:GREGORIAN
PRODID:-//Diputació de Barcelona//DibaCMS//EN
BEGIN:VEVENT
UID:30238
DTSTAMP:20260424T223953
DTSTART:20240908T110000
DTEND:20240908T110000
SUMMARY:Festes del Turó
LOCATION:
METHOD:PUBLISH
X-WR-CALNAME:oac@montcada.org
X-WR-TIMEZONE:Europe/Madrid
DESCRIPTION:Mare de Déu de Montcada

URI:https://www.montcada.cat/actualitat/agenda/festes-del-turo.html
CLASS:PUBLIC
END:VEVENT
END:VCALENDAR
