BEGIN:VCALENDAR
VERSION:2.0
CALSCALE:GREGORIAN
PRODID:-//Diputació de Barcelona//DibaCMS//EN
BEGIN:VEVENT
UID:30237
DTSTAMP:20260423T011113
DTSTART:20241201T113000
DTEND:20241201T133000
SUMMARY:Jugatecambiental. Embolcalla amb furoshiki
LOCATION:Carrer Mas Duran, 2 08110 Montcada i Reixac
METHOD:PUBLISH
X-WR-CALNAME:oac@montcada.org
X-WR-TIMEZONE:Europe/Madrid
DESCRIPTION:Activitats per aprendre en família

URI:https://www.montcada.cat/actualitat/agenda/jugatecambiental-embolcalla-amb-furoshiki.html
CLASS:PUBLIC
END:VEVENT
END:VCALENDAR
