BEGIN:VCALENDAR
VERSION:2.0
CALSCALE:GREGORIAN
PRODID:-//Diputació de Barcelona//DibaCMS//EN
BEGIN:VEVENT
UID:30234
DTSTAMP:20260423T124111
DTSTART:20241110T113000
DTEND:20241110T133000
SUMMARY:Jugatecambiental. Kokedama, una tècnica japonesa de plantació
LOCATION:Carrer Mas Duran, 2 08110 Montcada i Reixac
METHOD:PUBLISH
X-WR-CALNAME:oac@montcada.org
X-WR-TIMEZONE:Europe/Madrid
DESCRIPTION:Activitats per aprendre en família

URI:https://www.montcada.cat/actualitat/agenda/jugatecambiental-kokedama-una-tecnica-japonesa-de-plantacio.html
CLASS:PUBLIC
END:VEVENT
END:VCALENDAR
