BEGIN:VCALENDAR
VERSION:2.0
CALSCALE:GREGORIAN
PRODID:-//Diputació de Barcelona//DibaCMS//EN
BEGIN:VEVENT
UID:30232
DTSTAMP:20260424T073519
DTSTART:20241027T113000
DTEND:20241027T133000
SUMMARY:Jugatecambiental. Jocs solars
LOCATION:Carrer Mas Duran, 2 08110 Montcada i Reixac
METHOD:PUBLISH
X-WR-CALNAME:oac@montcada.org
X-WR-TIMEZONE:Europe/Madrid
DESCRIPTION:Activitats per aprendre en família

URI:https://www.montcada.cat/actualitat/agenda/30232-jugatecambiental-jocs-solars.html
CLASS:PUBLIC
END:VEVENT
END:VCALENDAR
