BEGIN:VCALENDAR
VERSION:2.0
CALSCALE:GREGORIAN
PRODID:-//Diputació de Barcelona//DibaCMS//EN
BEGIN:VEVENT
UID:30230
DTSTAMP:20260424T104429
DTSTART:20241020T113000
DTEND:20241020T133000
SUMMARY:Jugatecambiental. Termòmetre del soroll
LOCATION:Carrer Mas Duran, 2 08110 Montcada i Reixac
METHOD:PUBLISH
X-WR-CALNAME:oac@montcada.org
X-WR-TIMEZONE:Europe/Madrid
DESCRIPTION:Activitats per aprendre en família

URI:https://www.montcada.cat/actualitat/agenda/30230-jugatecambiental-termometre-del-soroll.html
CLASS:PUBLIC
END:VEVENT
END:VCALENDAR
