BEGIN:VCALENDAR
VERSION:2.0
CALSCALE:GREGORIAN
PRODID:-//Diputació de Barcelona//DibaCMS//EN
BEGIN:VEVENT
UID:30229
DTSTAMP:20260422T215317
DTSTART:20241013T113000
DTEND:20241013T133000
SUMMARY:Jugatecambiental. El Twister de l’aigua
LOCATION:Carrer Mas Duran, 2 08110 Montcada i Reixac
METHOD:PUBLISH
X-WR-CALNAME:oac@montcada.org
X-WR-TIMEZONE:Europe/Madrid
DESCRIPTION:Activitats per aprendre en família

URI:https://www.montcada.cat/actualitat/agenda/30229-jugatecambiental-el-twister-de-laigua.html
CLASS:PUBLIC
END:VEVENT
END:VCALENDAR
