BEGIN:VCALENDAR
VERSION:2.0
CALSCALE:GREGORIAN
PRODID:-//Diputació de Barcelona//DibaCMS//EN
BEGIN:VEVENT
UID:30222
DTSTAMP:20260423T061832
DTSTART:20241117T113000
DTEND:20241117T133000
SUMMARY:Jugatecambiental. Termòmetre del soroll
LOCATION:Avinguda de la Unitat 08110 Montcada i Reixac
METHOD:PUBLISH
X-WR-CALNAME:oac@montcada.org
X-WR-TIMEZONE:Europe/Madrid
DESCRIPTION:Activitats per aprendre en família

URI:https://www.montcada.cat/actualitat/agenda/30222-jugatecambiental-termometre-del-soroll.html
CLASS:PUBLIC
END:VEVENT
END:VCALENDAR
