BEGIN:VCALENDAR
VERSION:2.0
CALSCALE:GREGORIAN
PRODID:-//Diputació de Barcelona//DibaCMS//EN
BEGIN:VEVENT
UID:30215
DTSTAMP:20260424T194623
DTSTART:20240929T113000
DTEND:20240929T133000
SUMMARY:Jugatecambiental. Hotel d'insectes
LOCATION:Avinguda de la Unitat 08110 Montcada i Reixac
METHOD:PUBLISH
X-WR-CALNAME:oac@montcada.org
X-WR-TIMEZONE:Europe/Madrid
DESCRIPTION:Activitats per aprendre en família

URI:https://www.montcada.cat/actualitat/agenda/30215-jugatecambiental-hotel-dinsectes.html
CLASS:PUBLIC
END:VEVENT
END:VCALENDAR
