BEGIN:VCALENDAR
VERSION:2.0
CALSCALE:GREGORIAN
PRODID:-//Diputació de Barcelona//DibaCMS//EN
BEGIN:VEVENT
UID:30209
DTSTAMP:20260425T015232
DTSTART:20240906T183000
DTEND:20240911T230000
SUMMARY:Festa Major Terra Nostra 2024
LOCATION:
METHOD:PUBLISH
X-WR-CALNAME:oac@montcada.org
X-WR-TIMEZONE:Europe/Madrid
DESCRIPTION:
URI:https://www.montcada.cat/actualitat/agenda/festa-major-terra-nostra-2024.html
CLASS:PUBLIC
END:VEVENT
END:VCALENDAR
