BEGIN:VCALENDAR
VERSION:2.0
CALSCALE:GREGORIAN
PRODID:-//Diputació de Barcelona//DibaCMS//EN
BEGIN:VEVENT
UID:30208
DTSTAMP:20260425T000942
DTSTART:20240913T180000
DTEND:20240915T203000
SUMMARY:Festa Major Can Cuiàs 2024
LOCATION:
METHOD:PUBLISH
X-WR-CALNAME:oac@montcada.org
X-WR-TIMEZONE:Europe/Madrid
DESCRIPTION:
URI:https://www.montcada.cat/actualitat/agenda/festa-major-can-cuias-2024.html
CLASS:PUBLIC
END:VEVENT
END:VCALENDAR
