BEGIN:VCALENDAR
VERSION:2.0
CALSCALE:GREGORIAN
PRODID:-//Diputació de Barcelona//DibaCMS//EN
BEGIN:VEVENT
UID:30200
DTSTAMP:20260422T151838
DTSTART:20241214T180000
DTEND:20241214T180000
SUMMARY:Teatre. Los caballeros de la mesa cuadrada
LOCATION: c. Masia, 39       08110 Montcada i Reixac
METHOD:PUBLISH
X-WR-CALNAME:oac@montcada.org
X-WR-TIMEZONE:Europe/Madrid
DESCRIPTION:La Jove Finestra Estràbica

URI:https://www.montcada.cat/actualitat/agenda/teatre-los-caballeros-de-la-mesa-cuadrada.html
CLASS:PUBLIC
END:VEVENT
END:VCALENDAR
