BEGIN:VCALENDAR
VERSION:2.0
CALSCALE:GREGORIAN
PRODID:-//Diputació de Barcelona//DibaCMS//EN
BEGIN:VEVENT
UID:30185
DTSTAMP:20260423T130521
DTSTART:20241103T120000
DTEND:20241103T120000
SUMMARY:Espectacle infantil. Juguem?
LOCATION:Carrer Tarragona, 32       08110 Montcada i Reixac
METHOD:PUBLISH
X-WR-CALNAME:oac@montcada.org
X-WR-TIMEZONE:Europe/Madrid
DESCRIPTION:Ninnus i Cascai Teatre

URI:https://www.montcada.cat/actualitat/agenda/espectacle-infantil-juguem.html
CLASS:PUBLIC
END:VEVENT
END:VCALENDAR
