BEGIN:VCALENDAR
VERSION:2.0
CALSCALE:GREGORIAN
PRODID:-//Diputació de Barcelona//DibaCMS//EN
BEGIN:VEVENT
UID:30181
DTSTAMP:20260424T180419
DTSTART:20240928T200000
DTEND:20240928T200000
SUMMARY:Teatre. Llegat
LOCATION:Carrer Tarragona, 32       08110 Montcada i Reixac
METHOD:PUBLISH
X-WR-CALNAME:oac@montcada.org
X-WR-TIMEZONE:Europe/Madrid
DESCRIPTION:Aka Teatro

URI:https://www.montcada.cat/actualitat/agenda/teatre-llegat.html
CLASS:PUBLIC
END:VEVENT
END:VCALENDAR
