BEGIN:VCALENDAR
VERSION:2.0
CALSCALE:GREGORIAN
PRODID:-//Diputació de Barcelona//DibaCMS//EN
BEGIN:VEVENT
UID:30179
DTSTAMP:20260424T194735
DTSTART:20240927T173000
DTEND:20240927T173000
SUMMARY:Presentació 'Reviu Montcada i Reixac'
LOCATION:Carrer Montiu 08110 Montcada i Reixac
METHOD:PUBLISH
X-WR-CALNAME:oac@montcada.org
X-WR-TIMEZONE:Europe/Madrid
DESCRIPTION:
URI:https://www.montcada.cat/actualitat/agenda/presentacio-reviu-montcada-i-reixac.html
CLASS:PUBLIC
END:VEVENT
END:VCALENDAR
