BEGIN:VCALENDAR
VERSION:2.0
CALSCALE:GREGORIAN
PRODID:-//Diputació de Barcelona//DibaCMS//EN
BEGIN:VEVENT
UID:30178
DTSTAMP:20260425T000830
DTSTART:20240921T100000
DTEND:20240922T093000
SUMMARY:Setmana Europea de la Mobilitat 2024
LOCATION:
METHOD:PUBLISH
X-WR-CALNAME:oac@montcada.org
X-WR-TIMEZONE:Europe/Madrid
DESCRIPTION:
URI:https://www.montcada.cat/actualitat/agenda/setmana-europea-de-la-mobilitat-2024.html
CLASS:PUBLIC
END:VEVENT
END:VCALENDAR
