BEGIN:VCALENDAR
VERSION:2.0
CALSCALE:GREGORIAN
PRODID:-//Diputació de Barcelona//DibaCMS//EN
BEGIN:VEVENT
UID:30173
DTSTAMP:20260425T001948
DTSTART:20240905T160000
DTEND:20240906T190000
SUMMARY:Mercat gratuït d'intercanvi de roba
LOCATION:Rambla dels Països Catalans cantonada Camí de la Font Freda 
METHOD:PUBLISH
X-WR-CALNAME:oac@montcada.org
X-WR-TIMEZONE:Europe/Madrid
DESCRIPTION:Si ja no et val, passa-la!

URI:https://www.montcada.cat/actualitat/agenda/30173-mercat-gratuit-dintercanvi-de-roba.html
CLASS:PUBLIC
END:VEVENT
END:VCALENDAR
