BEGIN:VCALENDAR
VERSION:2.0
CALSCALE:GREGORIAN
PRODID:-//Diputació de Barcelona//DibaCMS//EN
BEGIN:VEVENT
UID:30159
DTSTAMP:20260421T193613
DTSTART:20240716T183000
DTEND:20240716T183000
SUMMARY:Reunió. AV Montcada Centre Llevant
LOCATION:Av. de la Unitat, 6 08110  Montcada i Reixac
METHOD:PUBLISH
X-WR-CALNAME:oac@montcada.org
X-WR-TIMEZONE:Europe/Madrid
DESCRIPTION:Tema: projecte plaça Larramendi

URI:https://www.montcada.cat/ajuntament/govern/agenda-politica/hemeroteca-agenda-politica/reunio-av-montcada-centre-llevant.html
CLASS:PUBLIC
END:VEVENT
END:VCALENDAR
