BEGIN:VCALENDAR
VERSION:2.0
CALSCALE:GREGORIAN
PRODID:-//Diputació de Barcelona//DibaCMS//EN
BEGIN:VEVENT
UID:30158
DTSTAMP:20260422T031933
DTSTART:20240715T080000
DTEND:20240715T080000
SUMMARY:Acte. Benvinguda participants nou pla d'ocupació
LOCATION:Av. de la Unitat, 6 08110  Montcada i Reixac
METHOD:PUBLISH
X-WR-CALNAME:oac@montcada.org
X-WR-TIMEZONE:Europe/Madrid
DESCRIPTION:
URI:https://www.montcada.cat/ajuntament/govern/agenda-politica/hemeroteca-agenda-politica/acte-benvinguda-participants-nou-pla-docupacio.html
CLASS:PUBLIC
END:VEVENT
END:VCALENDAR
