BEGIN:VCALENDAR
VERSION:2.0
CALSCALE:GREGORIAN
PRODID:-//Diputació de Barcelona//DibaCMS//EN
BEGIN:VEVENT
UID:30113
DTSTAMP:20260421T234018
DTSTART:20240718T103000
DTEND:20240718T103000
SUMMARY:Visita institucional. ADVAM
LOCATION:Carrer Romaní s/n 
METHOD:PUBLISH
X-WR-CALNAME:oac@montcada.org
X-WR-TIMEZONE:Europe/Madrid
DESCRIPTION:
URI:https://www.montcada.cat/ajuntament/govern/agenda-politica/hemeroteca-agenda-politica/visita-institucional-advam.html
CLASS:PUBLIC
END:VEVENT
END:VCALENDAR
