BEGIN:VCALENDAR
VERSION:2.0
CALSCALE:GREGORIAN
PRODID:-//Diputació de Barcelona//DibaCMS//EN
BEGIN:VEVENT
UID:30105
DTSTAMP:20260422T005052
DTSTART:20240718T110000
DTEND:20240718T110000
SUMMARY:Reunió. Fundació Pere Tarrés *
LOCATION:Av. de la Unitat, 6 08110  Montcada i Reixac
METHOD:PUBLISH
X-WR-CALNAME:oac@montcada.org
X-WR-TIMEZONE:Europe/Madrid
DESCRIPTION:Tema: EBM Can Sant Joan

URI:https://www.montcada.cat/ajuntament/govern/agenda-politica/hemeroteca-agenda-politica/reunio-fundacio-pere-tarres-.html
CLASS:PUBLIC
END:VEVENT
END:VCALENDAR
