BEGIN:VCALENDAR
VERSION:2.0
CALSCALE:GREGORIAN
PRODID:-//Diputació de Barcelona//DibaCMS//EN
BEGIN:VEVENT
UID:30104
DTSTAMP:20260422T024943
DTSTART:20240712T080000
DTEND:20240712T083000
SUMMARY:Reunió. Comissió Informativa Àrea Territorial
LOCATION:
METHOD:PUBLISH
X-WR-CALNAME:oac@montcada.org
X-WR-TIMEZONE:Europe/Madrid
DESCRIPTION:
URI:https://www.montcada.cat/ajuntament/govern/agenda-politica/hemeroteca-agenda-politica/30104-reunio-comissio-informativa-area-territorial.html
CLASS:PUBLIC
END:VEVENT
END:VCALENDAR
