BEGIN:VCALENDAR
VERSION:2.0
CALSCALE:GREGORIAN
PRODID:-//Diputació de Barcelona//DibaCMS//EN
BEGIN:VEVENT
UID:30103
DTSTAMP:20260421T234517
DTSTART:20240712T090000
DTEND:20240712T093000
SUMMARY:Reunió. Comissió informativa Àrea Social
LOCATION:Av. de la Unitat, 6 08110  Montcada i Reixac
METHOD:PUBLISH
X-WR-CALNAME:oac@montcada.org
X-WR-TIMEZONE:Europe/Madrid
DESCRIPTION:
URI:https://www.montcada.cat/ajuntament/govern/agenda-politica/hemeroteca-agenda-politica/30103-reunio-comissio-informativa-area-social.html
CLASS:PUBLIC
END:VEVENT
END:VCALENDAR
