BEGIN:VCALENDAR
VERSION:2.0
CALSCALE:GREGORIAN
PRODID:-//Diputació de Barcelona//DibaCMS//EN
BEGIN:VEVENT
UID:30098
DTSTAMP:20260421T232237
DTSTART:20240723T193000
DTEND:20240723T193000
SUMMARY:Acte. nauguració exposició fotografia Antonio Garballo
LOCATION:Carrer Major, 32 - Carrer Domènec Fins, 15 08110 Montcada i Reixac
METHOD:PUBLISH
X-WR-CALNAME:oac@montcada.org
X-WR-TIMEZONE:Europe/Madrid
DESCRIPTION:
URI:https://www.montcada.cat/ajuntament/govern/agenda-politica/hemeroteca-agenda-politica/acte-nauguracio-exposicio-fotografia-antonio-garballo.html
CLASS:PUBLIC
END:VEVENT
END:VCALENDAR
