BEGIN:VCALENDAR
VERSION:2.0
CALSCALE:GREGORIAN
PRODID:-//Diputació de Barcelona//DibaCMS//EN
BEGIN:VEVENT
UID:30094
DTSTAMP:20260422T004941
DTSTART:20240719T110000
DTEND:20240719T110000
SUMMARY:Visita. Tània Verge, Consellera d'Igualtat i Feminismes
LOCATION:
METHOD:PUBLISH
X-WR-CALNAME:oac@montcada.org
X-WR-TIMEZONE:Europe/Madrid
DESCRIPTION:Tema: signatura conveni SAID

URI:https://www.montcada.cat/ajuntament/govern/agenda-politica/hemeroteca-agenda-politica/visita-tania-verge-consellera-digualtat-i-feminismes.html
CLASS:PUBLIC
END:VEVENT
END:VCALENDAR
