BEGIN:VCALENDAR
VERSION:2.0
CALSCALE:GREGORIAN
PRODID:-//Diputació de Barcelona//DibaCMS//EN
BEGIN:VEVENT
UID:30093
DTSTAMP:20260421T210118
DTSTART:20240717T173000
DTEND:20240717T173000
SUMMARY:Reunió. AV Montcada Centre
LOCATION:Carrer Major, 32 - Carrer Domènec Fins, 15 08110 Montcada i Reixac
METHOD:PUBLISH
X-WR-CALNAME:oac@montcada.org
X-WR-TIMEZONE:Europe/Madrid
DESCRIPTION:
URI:https://www.montcada.cat/ajuntament/govern/agenda-politica/hemeroteca-agenda-politica/30093-reunio-av-montcada-centre.html
CLASS:PUBLIC
END:VEVENT
END:VCALENDAR
