BEGIN:VCALENDAR
VERSION:2.0
CALSCALE:GREGORIAN
PRODID:-//Diputació de Barcelona//DibaCMS//EN
BEGIN:VEVENT
UID:30092
DTSTAMP:20260421T221737
DTSTART:20240716T110000
DTEND:20240716T110000
SUMMARY:Reunió. Francesc Puig, Hub Tech Factory SL
LOCATION:Av. de la Unitat, 6 08110  Montcada i Reixac
METHOD:PUBLISH
X-WR-CALNAME:oac@montcada.org
X-WR-TIMEZONE:Europe/Madrid
DESCRIPTION:Tema: terrenys Nissan

URI:https://www.montcada.cat/ajuntament/govern/agenda-politica/hemeroteca-agenda-politica/reunio-francesc-puig-hub-tech-factory-sl.html
CLASS:PUBLIC
END:VEVENT
END:VCALENDAR
