BEGIN:VCALENDAR
VERSION:2.0
CALSCALE:GREGORIAN
PRODID:-//Diputació de Barcelona//DibaCMS//EN
BEGIN:VEVENT
UID:30090
DTSTAMP:20260421T210556
DTSTART:20240715T120000
DTEND:20240715T120000
SUMMARY:Visita institucional. Projecte Home
LOCATION:Carretera Vallençana, 24, km 8       08110 Montcada i Reixac
METHOD:PUBLISH
X-WR-CALNAME:oac@montcada.org
X-WR-TIMEZONE:Europe/Madrid
DESCRIPTION:
URI:https://www.montcada.cat/ajuntament/govern/agenda-politica/hemeroteca-agenda-politica/visita-institucional-projecte-home.html
CLASS:PUBLIC
END:VEVENT
END:VCALENDAR
