BEGIN:VCALENDAR
VERSION:2.0
CALSCALE:GREGORIAN
PRODID:-//Diputació de Barcelona//DibaCMS//EN
BEGIN:VEVENT
UID:30082
DTSTAMP:20260422T022208
DTSTART:20240710T103000
DTEND:20240710T103000
SUMMARY:Visita institucional. Botiga Tot x Tots
LOCATION:
METHOD:PUBLISH
X-WR-CALNAME:oac@montcada.org
X-WR-TIMEZONE:Europe/Madrid
DESCRIPTION:
URI:https://www.montcada.cat/ajuntament/govern/agenda-politica/hemeroteca-agenda-politica/visita-institucional-botiga-tot-x-tots.html
CLASS:PUBLIC
END:VEVENT
END:VCALENDAR
