BEGIN:VCALENDAR
VERSION:2.0
CALSCALE:GREGORIAN
PRODID:-//Diputació de Barcelona//DibaCMS//EN
BEGIN:VEVENT
UID:30076
DTSTAMP:20260422T070547
DTSTART:20240710T173000
DTEND:20240710T173000
SUMMARY:Acte. Reunió informativa afectacions soterrament carrer Guadiana
LOCATION:Carrer Major, 32 - Carrer Domènec Fins, 15 08110 Montcada i Reixac
METHOD:PUBLISH
X-WR-CALNAME:oac@montcada.org
X-WR-TIMEZONE:Europe/Madrid
DESCRIPTION:
URI:https://www.montcada.cat/ajuntament/govern/agenda-politica/hemeroteca-agenda-politica/acte-reunio-informativa-afectacions-soterrament-carrer-guadiana.html
CLASS:PUBLIC
END:VEVENT
END:VCALENDAR
