BEGIN:VCALENDAR
VERSION:2.0
CALSCALE:GREGORIAN
PRODID:-//Diputació de Barcelona//DibaCMS//EN
BEGIN:VEVENT
UID:30073
DTSTAMP:20260422T033911
DTSTART:20240708T100000
DTEND:20240708T100000
SUMMARY:Reunió. Associacions zona centre
LOCATION:Av. de la Unitat, 6 08110  Montcada i Reixac
METHOD:PUBLISH
X-WR-CALNAME:oac@montcada.org
X-WR-TIMEZONE:Europe/Madrid
DESCRIPTION:Tema: afectacions mobilitat carrer Guadiana

URI:https://www.montcada.cat/ajuntament/govern/agenda-politica/hemeroteca-agenda-politica/reunio-associacions-zona-centre.html
CLASS:PUBLIC
END:VEVENT
END:VCALENDAR
