BEGIN:VCALENDAR
VERSION:2.0
CALSCALE:GREGORIAN
PRODID:-//Diputació de Barcelona//DibaCMS//EN
BEGIN:VEVENT
UID:30065
DTSTAMP:20260421T223838
DTSTART:20240716T180000
DTEND:20240716T180000
SUMMARY:Reunió. AV Can Sant Joan
LOCATION:
METHOD:PUBLISH
X-WR-CALNAME:oac@montcada.org
X-WR-TIMEZONE:Europe/Madrid
DESCRIPTION:Tema: biblioteca

URI:https://www.montcada.cat/ajuntament/govern/agenda-politica/hemeroteca-agenda-politica/30065-reunio-av-can-sant-joan.html
CLASS:PUBLIC
END:VEVENT
END:VCALENDAR
